BEGIN:VCALENDAR
VERSION:2.0
PRODID:-//Elect Scott Saxe - ECPv6.0.11//NONSGML v1.0//EN
CALSCALE:GREGORIAN
METHOD:PUBLISH
X-WR-CALNAME:Elect Scott Saxe
X-ORIGINAL-URL:https://electscottsaxe.com
X-WR-CALDESC:Events for Elect Scott Saxe
REFRESH-INTERVAL;VALUE=DURATION:PT1H
X-Robots-Tag:noindex
X-PUBLISHED-TTL:PT1H
BEGIN:VTIMEZONE
TZID:America/Chicago
BEGIN:DAYLIGHT
TZOFFSETFROM:-0600
TZOFFSETTO:-0500
TZNAME:CDT
DTSTART:20180311T080000
END:DAYLIGHT
BEGIN:STANDARD
TZOFFSETFROM:-0500
TZOFFSETTO:-0600
TZNAME:CST
DTSTART:20181104T070000
END:STANDARD
END:VTIMEZONE
BEGIN:VEVENT
DTSTART;TZID=America/Chicago:20181021T120000
DTEND;TZID=America/Chicago:20181021T120000
DTSTAMP:20260423T055207
CREATED:20181020T211227Z
LAST-MODIFIED:20181020T211227Z
UID:3472-1540123200-1540123200@electscottsaxe.com
SUMMARY:Queen of the Rosary - Fall Fest
DESCRIPTION:
URL:https://electscottsaxe.com/event/queen-of-the-rosary-fall-fest/
LOCATION:Queen of the Rosary School\, 690 W. Elk Grove Blvd\, Elk Grove Village\, IL\, 60007\, United States
END:VEVENT
BEGIN:VEVENT
DTSTART;TZID=America/Chicago:20181020T170000
DTEND;TZID=America/Chicago:20181020T200000
DTSTAMP:20260423T055207
CREATED:20180928T132224Z
LAST-MODIFIED:20181007T194513Z
UID:3401-1540054800-1540065600@electscottsaxe.com
SUMMARY:Light the Night - Chicago
DESCRIPTION:Scott will be the Emcee for the Leukemia & Lymphoma Society’s Light the Night Walk in Chicago
URL:https://electscottsaxe.com/event/light-the-night-chicago/
LOCATION:Soldier Field
END:VEVENT
BEGIN:VEVENT
DTSTART;TZID=America/Chicago:20181020T080000
DTEND;TZID=America/Chicago:20181020T103000
DTSTAMP:20260423T055207
CREATED:20181020T210914Z
LAST-MODIFIED:20181020T210914Z
UID:3469-1540022400-1540031400@electscottsaxe.com
SUMMARY:Community Garden - Clean up
DESCRIPTION:Helping to prepare the Community Garden for winter. \nThankful to have such a valuable resource in the Village.
URL:https://electscottsaxe.com/event/community-garden-clean-up/
LOCATION:Living and Giving Garden of Elk Grove Village\, 1400 Arlington Heights Road\, Elk Grove Village\, IL\, 60007\, United States
END:VEVENT
BEGIN:VEVENT
DTSTART;TZID=America/Chicago:20181015T130000
DTEND;TZID=America/Chicago:20181015T163000
DTSTAMP:20260423T055207
CREATED:20180928T030645Z
LAST-MODIFIED:20190202T023450Z
UID:3385-1539608400-1539621000@electscottsaxe.com
SUMMARY:Elk Grove Village Manufacturing & Technology Expo
DESCRIPTION:Scott attended the Manufacturing & Technology Expo and met with local business owners.
URL:https://electscottsaxe.com/event/elk-grove-village-manufacturing-technology-expo/
LOCATION:Elk Grove High School\, 500 W Elk Grove Blvd\, Elk Grove Village\, IL\, 60007\, United States
END:VEVENT
BEGIN:VEVENT
DTSTART;TZID=America/Chicago:20181007T080000
DTEND;TZID=America/Chicago:20181208T170000
DTSTAMP:20260423T055207
CREATED:20181007T201544Z
LAST-MODIFIED:20181007T201602Z
UID:3454-1538899200-1544288400@electscottsaxe.com
SUMMARY:Collecting Signatures
DESCRIPTION:Scott is walking the Village\, knocking on doors\, and meeting neighbors to collect signatures to get on the April ballot. \nLook for him in your neighborhood over the coming days and weeks.
URL:https://electscottsaxe.com/event/collecting-signatures/
LOCATION:All Around Elk Grove Village
END:VEVENT
END:VCALENDAR